BEGIN:VCALENDAR
VERSION:2.0
PRODID:-//ChamberMaster//Event Calendar 2.0//EN
METHOD:PUBLISH
X-PUBLISHED-TTL:P3D
REFRESH-INTERVAL:P3D
CALSCALE:GREGORIAN
BEGIN:VEVENT
DTSTART:20231007T210000Z
DTEND:20231008T040000Z
X-MICROSOFT-CDO-ALLDAYEVENT:FALSE
SUMMARY:2023 Witches Walk - $150.00 Ticket (Bar Stops & After Party)
DESCRIPTION:It's time Witches!! \n\n\n\n***Tickets will go on sale - Tuesday\, September 5th - 10am**\n\n\n\nCome join us in downtown Lemont for a witching good time and support the Lemont Park Foundation along with the Heritage Corridor Business Alliance.  Your admission price includes 5 drink tickets - 5 bar stops - and a ride on the Quarry Queen - small bites at Hughie's and Barrel & Vine and music at the outdoor tent at Bottles - costume contest - prizes - and more!  \n\n\n\n$150.00 (including $5.00 processing fee) - Witches Walk (4 - 11pm)\n\n	Check-in at Bottles (4pm) : 439 Talcott\, Lemont\, IL\n	5 Drink Tickets \n	5 Bar Stops\n	Ride on The Quarry Queen and Drink Included\n	Small Bites at Barrel and Vine & Hughie's\n	Dance after party at Bottles \n	Small bites at after party catered by Matt's BBQ\n	All Gratuity is included\n	Limit of six tickets per credit card transaction\n	$5.00 processing fee is included \n	No Refunds - Rain or Shine Event\n\n\n\n\n\n**Space is limited\; get your tickets today**\n\n\n\nFollow the Witches Walk on Facebook: https://www.facebook.com/lemontwitcheswalk/
X-ALT-DESC;FMTTYPE=text/html:<span style="font-family:arial\;"><span style="font-size:22px\;"><span style="color:#800080\;"><strong>It&#39\;s time Witches!!&nbsp\;</strong></span></span><br />\n<br />\n<span style="font-size:16px\;">***Tickets will go on sale - Tuesday\, September 5th - 10am**</span><br />\n<br />\n<span style="font-size:18px\;">Come join us in downtown Lemont for a witching good time and support the Lemont Park Foundation along with the Heritage Corridor Business Alliance.&nbsp\; Your admission price includes 5 drink tickets - 5 bar stops - and a ride on the Quarry Queen - small bites at Hughie&#39\;s and Barrel &amp\; Vine and music at the outdoor tent at Bottles - costume contest - prizes - and more!&nbsp\;&nbsp\;<br />\n<br />\n<u><strong>$150.00 (including $5.00 processing fee) - Witches Walk (4 - 11pm)</strong></u></span></span>\n<ul>\n	<li><span style="font-family:arial\;"><span class="OYPEnA text-decoration-none text-strikethrough-none">Check-in at Bottles (4pm) : 439 Talcott\, Lemont\, IL</span></span></li>\n	<li><span style="font-family:arial\;"><span class="OYPEnA text-decoration-none text-strikethrough-none">5</span><span class="OYPEnA text-decoration-none text-strikethrough-none white-space-prewrap"> </span><span class="OYPEnA text-decoration-none text-strikethrough-none">Drink Tickets</span><span class="OYPEnA text-decoration-none text-strikethrough-none white-space-prewrap"> </span></span></li>\n	<li><span style="font-family:arial\;"><span class="OYPEnA text-decoration-none text-strikethrough-none">5</span><span class="OYPEnA text-decoration-none text-strikethrough-none white-space-prewrap"> </span><span class="OYPEnA text-decoration-none text-strikethrough-none">Bar Stops</span></span></li>\n	<li><span style="font-family:arial\;"><span class="OYPEnA text-decoration-none text-strikethrough-none">Ride on The Quarry Queen and Drink Included</span></span></li>\n	<li><span style="font-family:arial\;"><span class="OYPEnA text-decoration-none text-strikethrough-none">Small Bites at</span><span class="OYPEnA text-decoration-none text-strikethrough-none white-space-prewrap"> </span><span class="OYPEnA text-decoration-none text-strikethrough-none">Barrel and Vine &amp\; Hughie&#39\;s</span></span></li>\n	<li><span style="font-family:arial\;"><span class="OYPEnA text-decoration-none text-strikethrough-none">Dance after party at Bottles</span><span class="OYPEnA text-decoration-none text-strikethrough-none white-space-prewrap"> </span></span></li>\n	<li><span style="font-family:arial\;"><span class="OYPEnA text-decoration-none text-strikethrough-none">Small bites at after party catered by Matt&rsquo\;s BBQ</span></span></li>\n	<li><span style="font-family:arial\;"><span class="OYPEnA text-decoration-none text-strikethrough-none">All Gratuity is included</span></span></li>\n	<li><span style="font-family:arial\;"><span class="OYPEnA text-decoration-none text-strikethrough-none">Limit of six tickets per credit card transaction</span></span></li>\n	<li><span style="font-family:arial\;"><span class="OYPEnA text-decoration-none text-strikethrough-none">$5.00 processing fee is included</span><span class="OYPEnA text-decoration-none text-strikethrough-none white-space-prewrap"> </span></span></li>\n	<li><span style="font-family:arial\;"><span class="OYPEnA text-decoration-none text-strikethrough-none">No Refunds - Rain or Shine Event</span></span></li>\n</ul>\n<br />\n<br />\n<span style="font-family:arial\;"><span style="font-size:18px\;"><strong>**Space is limited\; get your tickets today**<br />\n<br />\n<span style="font-size:14px\;">Follow the Witches Walk on Facebook:&nbsp\;</span></strong></span></span><span style="font-size:14px\;">https://www.facebook.com/lemontwitcheswalk/</span><br />\n<br />\n&nbsp\;
LOCATION:Start and finish at Bottles - 439 Talcott\, Lemont\, IL 60439 Participating Bars: 111 Wine and Martini Bar\, Matt's\, Barrel and Vine\, Wooden Paddle\, Nicks\, Hughie's\, Main Inn\, the Quarry Queen & more
UID:e.2051.5227
SEQUENCE:3
DTSTAMP:20260421T113400Z
URL:https://business.myhcba.com/events/details/2023-witches-walk-150-00-ticket-bar-stops-after-party-5227
END:VEVENT

END:VCALENDAR
