BEGIN:VCALENDAR
VERSION:2.0
PRODID:-//ChamberMaster//Event Calendar 2.0//EN
METHOD:PUBLISH
X-PUBLISHED-TTL:P3D
REFRESH-INTERVAL:P3D
CALSCALE:GREGORIAN
BEGIN:VEVENT
DTSTART:20270324T170000Z
DTEND:20270324T180000Z
X-MICROSOFT-CDO-ALLDAYEVENT:FALSE
SUMMARY:HCBA Masters Class
DESCRIPTION:HCBA Masters Class -  Stop Pitching\, Start Connecting: A Real-World Guide to Sales Mastery\n\n\n\n The best salespeople aren't the loudest in the room   they're the most memorable. Join us for an honest\, experience-driven conversation about what it truly takes to stand out in your industry\, build lasting client relationships\, and create a sales approach so authentic that your clients can't help but refer you. If you're tired of chasing and ready to start attracting\, this session is for you
X-ALT-DESC;FMTTYPE=text/html:<span style="font-size:14px\;"><span style="font-family:tahoma\;">HCBA Masters Class -&nbsp\;<!--StartFragment--><span data-olk-copy-source="MessageBody" style="margin: 0px\;">&nbsp\;Stop Pitching\, Start Connecting: A Real-World Guide to Sales Mastery</span></span></span><br />\n<!--EndFragment--><br />\n<!--StartFragment--><span data-olk-copy-source="MessageBody" style="font-size: 12pt\; font-family: Aptos\, sans-serif\; margin: 0px\;">&nbsp\;The best salespeople aren&#39\;t the loudest in the room &mdash\; they&#39\;re the most memorable. Join us for an honest\, experience-driven conversation about what it truly takes to stand out in your industry\, build lasting client relationships\, and create a sales approach so authentic that your clients can&#39\;t help but refer you. If you&#39\;re tired of chasing and ready to start attracting\, this session is for you</span><!--EndFragment-->
LOCATION:This event will be Live on Zoom
UID:e.2051.5435
SEQUENCE:3
DTSTAMP:20260421T235838Z
URL:https://business.myhcba.com/events/details/hcba-masters-class-03-24-2027-5435
END:VEVENT

END:VCALENDAR
